BEGIN:VCALENDAR
VERSION:2.0
PRODID:-//midi Restaurant - ECPv6.15.20//NONSGML v1.0//EN
CALSCALE:GREGORIAN
METHOD:PUBLISH
X-WR-CALNAME:midi Restaurant
X-ORIGINAL-URL:https://midi-restaurant.de
X-WR-CALDESC:Veranstaltungen für midi Restaurant
REFRESH-INTERVAL;VALUE=DURATION:PT1H
X-Robots-Tag:noindex
X-PUBLISHED-TTL:PT1H
BEGIN:VTIMEZONE
TZID:Europe/Berlin
BEGIN:DAYLIGHT
TZOFFSETFROM:+0100
TZOFFSETTO:+0200
TZNAME:CEST
DTSTART:20240331T010000
END:DAYLIGHT
BEGIN:STANDARD
TZOFFSETFROM:+0200
TZOFFSETTO:+0100
TZNAME:CET
DTSTART:20241027T010000
END:STANDARD
BEGIN:DAYLIGHT
TZOFFSETFROM:+0100
TZOFFSETTO:+0200
TZNAME:CEST
DTSTART:20250330T010000
END:DAYLIGHT
BEGIN:STANDARD
TZOFFSETFROM:+0200
TZOFFSETTO:+0100
TZNAME:CET
DTSTART:20251026T010000
END:STANDARD
BEGIN:DAYLIGHT
TZOFFSETFROM:+0100
TZOFFSETTO:+0200
TZNAME:CEST
DTSTART:20260329T010000
END:DAYLIGHT
BEGIN:STANDARD
TZOFFSETFROM:+0200
TZOFFSETTO:+0100
TZNAME:CET
DTSTART:20261025T010000
END:STANDARD
END:VTIMEZONE
BEGIN:VEVENT
DTSTART;TZID=Europe/Berlin:20251218T180000
DTEND;TZID=Europe/Berlin:20251218T230000
DTSTAMP:20260422T125508
CREATED:20251122T170037Z
LAST-MODIFIED:20251123T091034Z
UID:6733-1766080800-1766098800@midi-restaurant.de
SUMMARY:Klang & Genuss am 18. Dezember
DESCRIPTION:Stimmen Sie sich genussvoll ein auf die festlichen Tage!\nWir laden Sie ein zu einem festlichen Weihnachtskonzert des OHO – Orchesterverein Harmonie Ormesheim mit der Sängerin Anne Müller. Ab 18:00 Uhr heißen wir Sie herzlich willkommen zu einem Glühweinempfang im Kerzenschein\, begleitet von den stimmungsvollen Klängen der Blechbläser. Um 18:30 Uhr entfaltet sich der volle Zauber\, wenn das große Orchester des OHO mit rund 50 Musikerinnen und Musikern den Raum in weihnachtliche Klangwelten taucht. \nIm Anschluss erwartet Sie natürlich ein kulinarisches Highlight: Sternekoch Peter Wirbel und sein Team verwöhnen Sie mit einem exquisiten 3-Gang-Menü – fein abgestimmt auf den festlichen Abend. Autor Frank P. Meyer ergänzt das Programm durch zwei kurze weihnachtliche Lesungen und sorgt so für besondere Akzente. \nGlühweinempfang\, Konzert\, Amuse Bouche und Drei-Gang-Menü | 89 € \n  \nZur Reservierung bei OpenTable \n 
URL:https://midi-restaurant.de/event/klang-genuss-am-18-dezember/
CATEGORIES:Event,Wine & Dine
ATTACH;FMTTYPE=image/jpeg:https://midi-restaurant.de/wp-content/uploads/2025/11/251107_Einleger_OHO-3.jpg
END:VEVENT
END:VCALENDAR